BEGIN:VCALENDAR
VERSION:2.0
PRODID:-//Lachyoga - ECPv6.15.20//NONSGML v1.0//EN
CALSCALE:GREGORIAN
METHOD:PUBLISH
X-ORIGINAL-URL:https://fiolito.de
X-WR-CALDESC:Veranstaltungen für Lachyoga
REFRESH-INTERVAL;VALUE=DURATION:PT1H
X-Robots-Tag:noindex
X-PUBLISHED-TTL:PT1H
BEGIN:VTIMEZONE
TZID:UTC
BEGIN:STANDARD
TZOFFSETFROM:+0000
TZOFFSETTO:+0000
TZNAME:UTC
DTSTART:20250101T000000
END:STANDARD
END:VTIMEZONE
BEGIN:VEVENT
DTSTART;TZID=UTC:20260612T050000
DTEND;TZID=UTC:20260612T183000
DTSTAMP:20260419T224123
CREATED:20260419T111103Z
LAST-MODIFIED:20260419T111103Z
UID:1366-1781240400-1781289000@fiolito.de
SUMMARY:Lachen als Ressource - Veranstaltung der Telefonseelsorge
DESCRIPTION:Lachen als Ressource in herausfordernden ZeitenErfahrungen und Praxis des Lachtelefons e.V. \nManche Menschen erleben\, dass ihnen angesichts der aktuellen Weltlage die Leichtigkeit verloren geht. Gleichzeitig zeigt die Praxis des bundesweiten Lachtelefons einen anderen Zugang: Lachen lässt sich bewusst einladen und kultivieren\, unabhängig von äußeren Umständen. \nAn diesem Abend gibt Sandra Mandl\, 1. Vorsitzende des Lachtelefons e.V.\, gemeinsam mit Lachtelefonist:innen aus dem Team Einblicke in die besondere Arbeit dieses Angebots. Das Lachtelefon verbindet Elemente aus dem Lachyoga mit zwischenmenschlicher Begegnung und schafft Räume\, in denen Menschen durch das gemeinsame Lachen neue Kraft und Zuversicht erleben können. \nDer Vortragsabend ist interaktiv gestaltet und lädt dazu ein\, Lachen nicht nur zu verstehen\, sondern direkt selbst zu erfahren. Impulse und Berichte wechseln sich mit praktischen Übungen ab. \nSo entsteht ein lebendiger Abend\, der zeigt\, wie Lachen zu einer wertvollen Ressource werden kann: für mehr Wohlbefinden\, für innere Balance und für einen freundlicheren Blick auf sich selbst und die Welt. \nTermin: Freitag\, 12. Juni 2026\, 17:00 UhrOrt: Gemeindehaus Lutherkirche\, Barbarossaring 26\, 67655 Kaiserslautern \nEine Veranstaltung des Freundeskreises TelefonSeelsorge Pfalz e.V.
URL:https://fiolito.de/event/lachen-als-ressource-veranstaltung-der-telefonseelsorge/
LOCATION:Gemeindehaus Lutherkirche Kaiserslautern\, Barbarossaring 26\, Kaiserslautern\, 67655\, Germany
CATEGORIES:Lachyoga,Netzwerkveranstaltung
ORGANIZER;CN="Freundeskreis TelefonSeelsorge Pfalz e.V.":MAILTO:info@telefonseelsorge-pfalz.de
END:VEVENT
END:VCALENDAR