BEGIN:VCALENDAR
VERSION:2.0
PRODID:-//Lachyoga - ECPv6.15.20//NONSGML v1.0//EN
CALSCALE:GREGORIAN
METHOD:PUBLISH
X-ORIGINAL-URL:https://fiolito.de
X-WR-CALDESC:Veranstaltungen für Lachyoga
REFRESH-INTERVAL;VALUE=DURATION:PT1H
X-Robots-Tag:noindex
X-PUBLISHED-TTL:PT1H
BEGIN:VTIMEZONE
TZID:UTC
BEGIN:STANDARD
TZOFFSETFROM:+0000
TZOFFSETTO:+0000
TZNAME:UTC
DTSTART:20250101T000000
END:STANDARD
END:VTIMEZONE
BEGIN:VEVENT
DTSTART;TZID=UTC:20260423T190000
DTEND;TZID=UTC:20260423T200000
DTSTAMP:20260419T174501
CREATED:20260419T104541Z
LAST-MODIFIED:20260419T104541Z
UID:1352-1776970800-1776974400@fiolito.de
SUMMARY:Lachclub Hanau
DESCRIPTION:Lachclub Hanau am 23. April um 19 Uhr im Park Wilhelmsbad vor dem Comoedienhaus. Offenes Lachtreffen mit Lach-\, Atem- und Entspannungsübungen in freundlicher Atmosphäre unter freiem Himmel. Für Neue und Erfahrene\, mit wechselnden Anleiterinnen. Einfach dazukommen und mitlachen. \nsiehe https://fiolito.de/angebote/lachclub-hanau/
URL:https://fiolito.de/event/lachclub-hanau-4/
LOCATION:Park Wilhelmsbad\, Hanau\, Parkpromenade 1\, Hanau\, Hessen\, 63454
CATEGORIES:Lachtreff,Lachyoga
ATTACH;FMTTYPE=image/png:https://fiolito.de/wp-content/uploads/2025/01/Lachclub-Hanau-1.png
ORGANIZER;CN="Sandra Mandl":MAILTO:info@fiolito.de
END:VEVENT
END:VCALENDAR