BEGIN:VCALENDAR
VERSION:2.0
PRODID:-//Lachyoga - ECPv6.15.20//NONSGML v1.0//EN
CALSCALE:GREGORIAN
METHOD:PUBLISH
X-ORIGINAL-URL:https://fiolito.de
X-WR-CALDESC:Veranstaltungen für Lachyoga
REFRESH-INTERVAL;VALUE=DURATION:PT1H
X-Robots-Tag:noindex
X-PUBLISHED-TTL:PT1H
BEGIN:VTIMEZONE
TZID:UTC
BEGIN:STANDARD
TZOFFSETFROM:+0000
TZOFFSETTO:+0000
TZNAME:UTC
DTSTART:20250101T000000
END:STANDARD
END:VTIMEZONE
BEGIN:VEVENT
DTSTART;TZID=UTC:20260419T080000
DTEND;TZID=UTC:20260419T170000
DTSTAMP:20260419T175209
CREATED:20260419T105250Z
LAST-MODIFIED:20260419T105250Z
UID:1354-1776585600-1776618000@fiolito.de
SUMMARY:Lachyoga-Symposium in Travemünde
DESCRIPTION:Lachyoga-Symposium in Travemünde – ein Tag am Meer voller Lachen und Atem \nAm 02. Mai 2026 findet in Lübeck-Travemünde das 7. Lachyoga-Symposium statt – ein besonderer Tag\, der Lachen\, Bewegung und frische Meeresluft miteinander verbindet. Von 10:00 bis 18:00 Uhr kommen Menschen zusammen\, die ihr Lachen neu entdecken\, vertiefen und gemeinsam erleben möchten. \nDirekt am Meer\, mit weitem Blick über das Wasser\, entsteht ein Raum für Leichtigkeit und Verbundenheit. Durch angeleitete Lach- und Atemübungen wird der Körper aktiviert\, die Stimmung hebt sich und neue Energie kann spürbar werden. Ergänzt wird der Tag durch kurze Vorträge\, die spannende Impulse rund um Lachen\, Atmung und Wohlbefinden geben. \nDas Symposium richtet sich an alle\, ob mit ersten Erfahrungen im Lachyoga oder völlig neu dabei. Im Mittelpunkt steht das gemeinsame Erleben in einer offenen und wertschätzenden Atmosphäre. \nDie Leitung des Tages übernimmt Dieter Müller\, Diplom-Opernsänger\, Diplom-Gesangspädagoge und examinierter Atemlehrer nach Prof. Ilse Middendorf. Mit seiner Erfahrung verbindet er Stimme\, Atem und Ausdruck auf lebendige Weise. \nIch selbst bin an diesem Tag ebenfalls mit dabei und freue mich sehr\, Teil dieses besonderen Formats zu sein und gemeinsam mit vielen anderen das Lachen in all seinen Facetten zu erleben. \nDie Teilnahmegebühr beträgt 55\,00 Euro. \nsiehe: https://gesangsschule.com/lachen/
URL:https://fiolito.de/event/lachyoga-symposium-in-travemuende/
LOCATION:Atlantic Grand Hotel Lübeck Travemünde\, Kaiserallee 2\, Lübeck\, 23570\, Germany
CATEGORIES:Lachyoga
ORGANIZER;CN="Dieter M%C3%BCller":MAILTO:diteao@gmail.com
END:VEVENT
END:VCALENDAR